View In:
ArcGIS JavaScript
ArcGIS Online Map Viewer
ArcGIS Earth
ArcMap
View Footprint In:
ArcGIS Online Map Viewer
Service Description: Dostępność_infr_komunikacyjnej_–_Obszary_dostępności
Name: Dostępność_infr_komunikacyjnej_–_Obszary_dostępności
Description:
Single Fused Map Cache: false
Extent:
XMin: 6416535.83
YMin: 5656846.3100000005
XMax: 6442305.83
YMax: 5675586.3100000005
Spatial Reference: 2177
(2177)
Initial Extent:
XMin: 6416535.83
YMin: 5656846.3100000005
XMax: 6442305.83
YMax: 5675586.3100000005
Spatial Reference: 2177
(2177)
Full Extent:
XMin: 6416535.83
YMin: 5656846.3100000005
XMax: 6442305.83
YMax: 5675586.3100000005
Spatial Reference: 2177
(2177)
Pixel Size X: 10.0
Pixel Size Y: 10.0
Band Count: 1
Pixel Type: S8
RasterFunction Infos: {"rasterFunctionInfos": [{
"name": "None",
"description": "",
"help": ""
}]}
Mensuration Capabilities: Basic
Has Histograms: true
Has Colormap: true
Has Multi Dimensions : false
Rendering Rule:
Min Scale: 0
Max Scale: 0
Copyright Text:
Service Data Type: esriImageServiceDataTypeThematic
Min Values: 0
Max Values: 6
Mean Values: 1.4488095371211303
Standard Deviation Values: 2.155146120779782
Object ID Field:
Fields:
None
Default Mosaic Method: Center
Allowed Mosaic Methods:
SortField:
SortValue: null
Mosaic Operator: First
Default Compression Quality: 95
Default Resampling Method: Nearest
Max Record Count: null
Max Image Height: 4100
Max Image Width: 15000
Max Download Image Count: null
Max Mosaic Image Count: null
Allow Raster Function: true
Allow Copy: true
Allow Analysis: true
Allow Compute TiePoints: false
Supports Statistics: false
Supports Advanced Queries: false
Use StandardizedQueries: true
Raster Type Infos:
Name: Raster Dataset
Description: Supports all ArcGIS Raster Datasets
Help:
Has Raster Attribute Table: true
Edit Fields Info: null
Ownership Based AccessControl For Rasters: null
Child Resources:
Info
Raster Attribute Table
Histograms
Statistics
Key Properties
Color Map
Legend
Raster Function Infos
Supported Operations:
Export Image
Identify
Measure
Compute Histograms
Compute Statistics Histograms
Get Samples
Compute Class Statistics
Query Boundary
Compute Pixel Location
Validate
Project