{
 "currentVersion": 10.81,
 "serviceDescription": "Dostępność_infr_komunikacyjnej_\u2013_Obszary_dostępności",
 "name": "Dostępność_infr_komunikacyjnej_\u2013_Obszary_dostępności",
 "description": "",
 "extent": {
  "xmin": 6416535.83,
  "ymin": 5656846.3100000005,
  "xmax": 6442305.83,
  "ymax": 5675586.3100000005,
  "spatialReference": {
   "wkid": 2177,
   "latestWkid": 2177
  }
 },
 "initialExtent": {
  "xmin": 6416535.83,
  "ymin": 5656846.3100000005,
  "xmax": 6442305.83,
  "ymax": 5675586.3100000005,
  "spatialReference": {
   "wkid": 2177,
   "latestWkid": 2177
  }
 },
 "fullExtent": {
  "xmin": 6416535.83,
  "ymin": 5656846.3100000005,
  "xmax": 6442305.83,
  "ymax": 5675586.3100000005,
  "spatialReference": {
   "wkid": 2177,
   "latestWkid": 2177
  }
 },
 "pixelSizeX": 10,
 "pixelSizeY": 10,
 "datasetFormat": "SDR",
 "uncompressedSize": 4829298,
 "blockWidth": 128,
 "blockHeight": 128,
 "compressionType": "LZ77",
 "bandNames": [
  "Band_1"
 ],
 "allowCopy": true,
 "allowAnalysis": true,
 "bandCount": 1,
 "pixelType": "S8",
 "minPixelSize": 0,
 "maxPixelSize": 0,
 "copyrightText": "",
 "serviceDataType": "esriImageServiceDataTypeThematic",
 "serviceSourceType": "esriImageServiceSourceTypeDataset",
 "minValues": [
  0
 ],
 "maxValues": [
  6
 ],
 "meanValues": [
  1.4488095371211303
 ],
 "stdvValues": [
  2.155146120779782
 ],
 "objectIdField": "",
 "fields": [],
 "capabilities": "Image,Metadata,Mensuration",
 "defaultMosaicMethod": "Center",
 "allowedMosaicMethods": "",
 "sortField": "",
 "sortValue": null,
 "sortAscending": true,
 "mosaicOperator": "First",
 "defaultCompressionQuality": 95,
 "defaultResamplingMethod": "Nearest",
 "maxImageHeight": 4100,
 "maxImageWidth": 15000,
 "allowRasterFunction": true,
 "rasterFunctionInfos": [
  {
   "name": "None",
   "description": "",
   "help": ""
  }
 ],
 "rasterTypeInfos": [
  {
   "name": "Raster Dataset",
   "description": "Supports all ArcGIS Raster Datasets",
   "help": ""
  }
 ],
 "mensurationCapabilities": "Basic",
 "hasHistograms": true,
 "hasColormap": true,
 "hasRasterAttributeTable": true,
 "minScale": 0,
 "maxScale": 0,
 "exportTilesAllowed": false,
 "hasMultidimensions": false,
 "supportsStatistics": false,
 "supportsAdvancedQueries": false,
 "editFieldsInfo": null,
 "ownershipBasedAccessControlForRasters": null,
 "allowComputeTiePoints": false,
 "useStandardizedQueries": true,
 "advancedQueryCapabilities": {
  "useStandardizedQueries": true,
  "supportsStatistics": false,
  "supportsOrderBy": false,
  "supportsDistinct": false,
  "supportsPagination": false
 },
 "spatialReference": {
  "wkid": 2177,
  "latestWkid": 2177
 }
}
