View In:
ArcGIS JavaScript
ArcGIS Online Map Viewer
ArcGIS Earth
ArcMap
View Footprint In:
ArcGIS Online Map Viewer
Service Description: Dostepnosc_infrastruktury_komunikacyjnej_04_2024
Name: Dostepnosc_infrastruktury_komunikacyjnej_04_2024
Description:
Single Fused Map Cache: false
Extent:
XMin: 6416535.83
YMin: 5656846.3100000005
XMax: 6442305.83
YMax: 5675586.3100000005
Spatial Reference: PROJCS["ETRF2000-PL_CS2000_18_Zone_6",GEOGCS["ETRF2000-PL",DATUM["ETRF2000_Poland",SPHEROID["GRS_1980",6378137.0,298.257222101]],PRIMEM["Greenwich",0.0],UNIT["Degree",0.0174532925199433]],PROJECTION["Transverse_Mercator"],PARAMETER["False_Easting",6500000.0],PARAMETER["False_Northing",0.0],PARAMETER["Central_Meridian",18.0],PARAMETER["Scale_Factor",0.999923],PARAMETER["Latitude_Of_Origin",0.0],UNIT["Meter",1.0]]
Initial Extent:
XMin: 6416535.83
YMin: 5656846.3100000005
XMax: 6442305.83
YMax: 5675586.3100000005
Spatial Reference: PROJCS["ETRF2000-PL_CS2000_18_Zone_6",GEOGCS["ETRF2000-PL",DATUM["ETRF2000_Poland",SPHEROID["GRS_1980",6378137.0,298.257222101]],PRIMEM["Greenwich",0.0],UNIT["Degree",0.0174532925199433]],PROJECTION["Transverse_Mercator"],PARAMETER["False_Easting",6500000.0],PARAMETER["False_Northing",0.0],PARAMETER["Central_Meridian",18.0],PARAMETER["Scale_Factor",0.999923],PARAMETER["Latitude_Of_Origin",0.0],UNIT["Meter",1.0]]
Full Extent:
XMin: 6416535.83
YMin: 5656846.3100000005
XMax: 6442305.83
YMax: 5675586.3100000005
Spatial Reference: PROJCS["ETRF2000-PL_CS2000_18_Zone_6",GEOGCS["ETRF2000-PL",DATUM["ETRF2000_Poland",SPHEROID["GRS_1980",6378137.0,298.257222101]],PRIMEM["Greenwich",0.0],UNIT["Degree",0.0174532925199433]],PROJECTION["Transverse_Mercator"],PARAMETER["False_Easting",6500000.0],PARAMETER["False_Northing",0.0],PARAMETER["Central_Meridian",18.0],PARAMETER["Scale_Factor",0.999923],PARAMETER["Latitude_Of_Origin",0.0],UNIT["Meter",1.0]]
Pixel Size X: 10.0
Pixel Size Y: 10.0
Band Count: 1
Pixel Type: U8
RasterFunction Infos: {"rasterFunctionInfos": [{
"name": "None",
"description": "",
"help": ""
}]}
Mensuration Capabilities: Basic
Has Histograms: true
Has Colormap: false
Has Multi Dimensions : false
Rendering Rule:
Min Scale: 0
Max Scale: 0
Copyright Text:
Service Data Type: esriImageServiceDataTypeGeneric
Min Values: 0
Max Values: 6
Mean Values: 1.407217363683086
Standard Deviation Values: 2.0761068541146632
Object ID Field:
Fields:
None
Default Mosaic Method: Center
Allowed Mosaic Methods:
SortField:
SortValue: null
Mosaic Operator: First
Default Compression Quality: 95
Default Resampling Method: Nearest
Max Record Count: null
Max Image Height: 4100
Max Image Width: 15000
Max Download Image Count: null
Max Mosaic Image Count: null
Allow Raster Function: true
Allow Copy: true
Allow Analysis: true
Allow Compute TiePoints: false
Supports Statistics: false
Supports Advanced Queries: false
Use StandardizedQueries: true
Raster Type Infos:
Name: Raster Dataset
Description: Supports all ArcGIS Raster Datasets
Help:
Has Raster Attribute Table: true
Edit Fields Info: null
Ownership Based AccessControl For Rasters: null
Child Resources:
Info
Raster Attribute Table
Histograms
Statistics
Key Properties
Legend
Raster Function Infos
Supported Operations:
Export Image
Identify
Measure
Compute Histograms
Compute Statistics Histograms
Get Samples
Compute Class Statistics
Query Boundary
Compute Pixel Location
Validate
Project