{
 "currentVersion": 10.81,
 "serviceDescription": "Dostepnosc_infr_komunikacyjnej_obszary_dostepnosci_2024",
 "name": "Dostepnosc_infr_komunikacyjnej_obszary_dostepnosci_2024",
 "description": "",
 "extent": {
  "xmin": 6416535.83,
  "ymin": 5656846.3100000005,
  "xmax": 6442305.83,
  "ymax": 5675586.3100000005,
  "spatialReference": {
   "wkt": "PROJCS[\"ETRF2000-PL_CS2000_18_Zone_6\",GEOGCS[\"ETRF2000-PL\",DATUM[\"ETRF2000_Poland\",SPHEROID[\"GRS_1980\",6378137.0,298.257222101]],PRIMEM[\"Greenwich\",0.0],UNIT[\"Degree\",0.0174532925199433]],PROJECTION[\"Transverse_Mercator\"],PARAMETER[\"False_Easting\",6500000.0],PARAMETER[\"False_Northing\",0.0],PARAMETER[\"Central_Meridian\",18.0],PARAMETER[\"Scale_Factor\",0.999923],PARAMETER[\"Latitude_Of_Origin\",0.0],UNIT[\"Meter\",1.0]]"
  }
 },
 "initialExtent": {
  "xmin": 6416535.83,
  "ymin": 5656846.3100000005,
  "xmax": 6442305.83,
  "ymax": 5675586.3100000005,
  "spatialReference": {
   "wkt": "PROJCS[\"ETRF2000-PL_CS2000_18_Zone_6\",GEOGCS[\"ETRF2000-PL\",DATUM[\"ETRF2000_Poland\",SPHEROID[\"GRS_1980\",6378137.0,298.257222101]],PRIMEM[\"Greenwich\",0.0],UNIT[\"Degree\",0.0174532925199433]],PROJECTION[\"Transverse_Mercator\"],PARAMETER[\"False_Easting\",6500000.0],PARAMETER[\"False_Northing\",0.0],PARAMETER[\"Central_Meridian\",18.0],PARAMETER[\"Scale_Factor\",0.999923],PARAMETER[\"Latitude_Of_Origin\",0.0],UNIT[\"Meter\",1.0]]"
  }
 },
 "fullExtent": {
  "xmin": 6416535.83,
  "ymin": 5656846.3100000005,
  "xmax": 6442305.83,
  "ymax": 5675586.3100000005,
  "spatialReference": {
   "wkt": "PROJCS[\"ETRF2000-PL_CS2000_18_Zone_6\",GEOGCS[\"ETRF2000-PL\",DATUM[\"ETRF2000_Poland\",SPHEROID[\"GRS_1980\",6378137.0,298.257222101]],PRIMEM[\"Greenwich\",0.0],UNIT[\"Degree\",0.0174532925199433]],PROJECTION[\"Transverse_Mercator\"],PARAMETER[\"False_Easting\",6500000.0],PARAMETER[\"False_Northing\",0.0],PARAMETER[\"Central_Meridian\",18.0],PARAMETER[\"Scale_Factor\",0.999923],PARAMETER[\"Latitude_Of_Origin\",0.0],UNIT[\"Meter\",1.0]]"
  }
 },
 "pixelSizeX": 10,
 "pixelSizeY": 10,
 "datasetFormat": "SDR",
 "uncompressedSize": 4829298,
 "blockWidth": 128,
 "blockHeight": 128,
 "compressionType": "LZ77",
 "bandNames": [
  "Band_1"
 ],
 "allowCopy": true,
 "allowAnalysis": true,
 "bandCount": 1,
 "pixelType": "U8",
 "minPixelSize": 0,
 "maxPixelSize": 0,
 "copyrightText": "",
 "serviceDataType": "esriImageServiceDataTypeThematic",
 "serviceSourceType": "esriImageServiceSourceTypeDataset",
 "minValues": [
  0
 ],
 "maxValues": [
  6
 ],
 "meanValues": [
  1.407217363683086
 ],
 "stdvValues": [
  2.0761068541146632
 ],
 "objectIdField": "",
 "fields": [],
 "capabilities": "Image,Metadata,Mensuration",
 "defaultMosaicMethod": "Center",
 "allowedMosaicMethods": "",
 "sortField": "",
 "sortValue": null,
 "sortAscending": true,
 "mosaicOperator": "First",
 "defaultCompressionQuality": 75,
 "defaultResamplingMethod": "Nearest",
 "maxImageHeight": 4100,
 "maxImageWidth": 15000,
 "allowRasterFunction": true,
 "rasterFunctionInfos": [
  {
   "name": "None",
   "description": "",
   "help": ""
  }
 ],
 "rasterTypeInfos": [
  {
   "name": "Raster Dataset",
   "description": "Supports all ArcGIS Raster Datasets",
   "help": ""
  }
 ],
 "mensurationCapabilities": "Basic",
 "hasHistograms": true,
 "hasColormap": true,
 "hasRasterAttributeTable": false,
 "minScale": 0,
 "maxScale": 0,
 "exportTilesAllowed": false,
 "hasMultidimensions": false,
 "supportsStatistics": false,
 "supportsAdvancedQueries": false,
 "editFieldsInfo": null,
 "ownershipBasedAccessControlForRasters": null,
 "allowComputeTiePoints": false,
 "useStandardizedQueries": true,
 "advancedQueryCapabilities": {
  "useStandardizedQueries": true,
  "supportsStatistics": false,
  "supportsOrderBy": false,
  "supportsDistinct": false,
  "supportsPagination": false
 },
 "spatialReference": {
  "wkt": "PROJCS[\"ETRF2000-PL_CS2000_18_Zone_6\",GEOGCS[\"ETRF2000-PL\",DATUM[\"ETRF2000_Poland\",SPHEROID[\"GRS_1980\",6378137.0,298.257222101]],PRIMEM[\"Greenwich\",0.0],UNIT[\"Degree\",0.0174532925199433]],PROJECTION[\"Transverse_Mercator\"],PARAMETER[\"False_Easting\",6500000.0],PARAMETER[\"False_Northing\",0.0],PARAMETER[\"Central_Meridian\",18.0],PARAMETER[\"Scale_Factor\",0.999923],PARAMETER[\"Latitude_Of_Origin\",0.0],UNIT[\"Meter\",1.0]]"
 }
}
